BEGIN:VCALENDAR
VERSION:2.0
PRODID: -//Q4 Inc.//EN
METHOD:PUBLISH
BEGIN:VTIMEZONE
TZID:America/New_York
X-LIC-LOCATION:America/New_York
BEGIN:DAYLIGHT
TZOFFSETFROM:-0500
TZOFFSETTO:-0400
TZNAME:EDT
DTSTART:19700308T020000
RRULE:FREQ=YEARLY;BYMONTH=3;BYDAY=2SU
END:DAYLIGHT
BEGIN:STANDARD
TZOFFSETFROM:-0400
TZOFFSETTO:-0500
TZNAME:EST
DTSTART:19701101T020000
RRULE:FREQ=YEARLY;BYMONTH=11;BYDAY=1SU
END:STANDARD
END:VTIMEZONE
BEGIN:VEVENT
ORGANIZER:MAILTO:no-reply@q4inc.com
DTSTART;TZID="America/New_York":20240605T105500
DTEND;TZID="America/New_York":20240605T115500
LOCATION:Boston, MA
UID:16c6f321-bd6f-4871-bf22-315587bede3d
DTSTAMP:20260421T142449
SUMMARY:Talos Energy to attend the Stifel Cross Sector Insight Conference
DESCRIPTION: View More Information: http://www.talosenergy.com/investor-relations/presentation-webcast/event-details/2024/Talos-Energy-to-attend-the-Stifel-Cross-Sector-Insight-Conference-2024-BOdlbRU2Qi/default.aspx
URL;VALUE=URI:http://www.talosenergy.com/investor-relations/presentation-webcast/event-details/2024/Talos-Energy-to-attend-the-Stifel-Cross-Sector-Insight-Conference-2024-BOdlbRU2Qi/default.aspx
PRIORITY:5
CLASS:PUBLIC
END:VEVENT
END:VCALENDAR
