BEGIN:VCALENDAR
VERSION:2.0
PRODID: -//Q4 Inc.//EN
METHOD:PUBLISH
BEGIN:VTIMEZONE
TZID:America/New_York
X-LIC-LOCATION:America/New_York
BEGIN:DAYLIGHT
TZOFFSETFROM:-0500
TZOFFSETTO:-0400
TZNAME:EDT
DTSTART:19700308T020000
RRULE:FREQ=YEARLY;BYMONTH=3;BYDAY=2SU
END:DAYLIGHT
BEGIN:STANDARD
TZOFFSETFROM:-0400
TZOFFSETTO:-0500
TZNAME:EST
DTSTART:19701101T020000
RRULE:FREQ=YEARLY;BYMONTH=11;BYDAY=1SU
END:STANDARD
END:VTIMEZONE
BEGIN:VEVENT
ORGANIZER:MAILTO:no-reply@q4inc.com
DTSTART;TZID="America/New_York":20240604T144000
DTEND;TZID="America/New_York":20240604T154000
LOCATION:New York, NY
UID:91048b4d-abae-46ea-ab59-b4da71262c02
DTSTAMP:20260421T162340
SUMMARY:Talos Energy to attend the RBC Capital Markets Global Energy, Power and Infrastructure Conference
DESCRIPTION: View More Information: http://www.talosenergy.com/investor-relations/presentation-webcast/event-details/2024/Talos-Energy-to-attend-the-RBC-Capital-Markets-Global-Energy-Power-and-Infrastructure-Conference--2024-jjOowx6aou/default.aspx
URL;VALUE=URI:http://www.talosenergy.com/investor-relations/presentation-webcast/event-details/2024/Talos-Energy-to-attend-the-RBC-Capital-Markets-Global-Energy-Power-and-Infrastructure-Conference--2024-jjOowx6aou/default.aspx
PRIORITY:5
CLASS:PUBLIC
END:VEVENT
END:VCALENDAR
