BEGIN:VCALENDAR
VERSION:2.0
PRODID: -//Q4 Inc.//EN
METHOD:PUBLISH
BEGIN:VTIMEZONE
TZID:America/New_York
X-LIC-LOCATION:America/New_York
BEGIN:DAYLIGHT
TZOFFSETFROM:-0500
TZOFFSETTO:-0400
TZNAME:EDT
DTSTART:19700308T020000
RRULE:FREQ=YEARLY;BYMONTH=3;BYDAY=2SU
END:DAYLIGHT
BEGIN:STANDARD
TZOFFSETFROM:-0400
TZOFFSETTO:-0500
TZNAME:EST
DTSTART:19701101T020000
RRULE:FREQ=YEARLY;BYMONTH=11;BYDAY=1SU
END:STANDARD
END:VTIMEZONE
BEGIN:VEVENT
ORGANIZER:MAILTO:no-reply@q4inc.com
DTSTART;TZID="America/New_York":20230118T030000
DTEND;TZID="America/New_York":20230118T040000
LOCATION:London, UK<br /><br />Description: Talos Energy Chief Financial Officer Shane Young will present at 11:25 AM GMT. 
UID:8953c240-a898-4e7f-9221-b2c54dc0bad9
DTSTAMP:20260421T141141
SUMMARY:Talos Energy to attend the 2023 Pareto Securities E&P Independents Conference
DESCRIPTION: View More Information: http://www.talosenergy.com/investor-relations/presentation-webcast/event-details/2023/Talos-Energy-to-attend-the-2023-Pareto-Securities-EP-Independents-Conference-2023-V9vjE3a3Pu/default.aspx
URL;VALUE=URI:http://www.talosenergy.com/investor-relations/presentation-webcast/event-details/2023/Talos-Energy-to-attend-the-2023-Pareto-Securities-EP-Independents-Conference-2023-V9vjE3a3Pu/default.aspx
PRIORITY:5
CLASS:PUBLIC
END:VEVENT
END:VCALENDAR
