BEGIN:VCALENDAR
VERSION:2.0
PRODID: -//Q4 Inc.//EN
METHOD:PUBLISH
BEGIN:VTIMEZONE
TZID:America/New_York
X-LIC-LOCATION:America/New_York
BEGIN:DAYLIGHT
TZOFFSETFROM:-0500
TZOFFSETTO:-0400
TZNAME:EDT
DTSTART:19700308T020000
RRULE:FREQ=YEARLY;BYMONTH=3;BYDAY=2SU
END:DAYLIGHT
BEGIN:STANDARD
TZOFFSETFROM:-0400
TZOFFSETTO:-0500
TZNAME:EST
DTSTART:19701101T020000
RRULE:FREQ=YEARLY;BYMONTH=11;BYDAY=1SU
END:STANDARD
END:VTIMEZONE
BEGIN:VEVENT
ORGANIZER:MAILTO:no-reply@q4inc.com
DTSTART;TZID="America/New_York":20230106T070000
DTEND;TZID="America/New_York":20230106T080000
LOCATION:Miami Beach, FL
UID:13682dc7-8b15-4d33-ace9-ba4635efa5e1
DTSTAMP:20260421T161744
SUMMARY:Talos Energy to attend the 2023 Goldman Sachs Global Energy and Clean Technology Conference
DESCRIPTION: View More Information: http://www.talosenergy.com/investor-relations/presentation-webcast/event-details/2023/Talos-Energy-to-attend-the-2023-Goldman-Sachs-Global-Energy-and-Clean-Technology-Conference-2023-qFNOvK0zP_/default.aspx
URL;VALUE=URI:http://www.talosenergy.com/investor-relations/presentation-webcast/event-details/2023/Talos-Energy-to-attend-the-2023-Goldman-Sachs-Global-Energy-and-Clean-Technology-Conference-2023-qFNOvK0zP_/default.aspx
PRIORITY:5
CLASS:PUBLIC
END:VEVENT
END:VCALENDAR
