BEGIN:VCALENDAR
VERSION:2.0
PRODID: -//Q4 Inc.//EN
METHOD:PUBLISH
BEGIN:VTIMEZONE
TZID:America/New_York
X-LIC-LOCATION:America/New_York
BEGIN:DAYLIGHT
TZOFFSETFROM:-0500
TZOFFSETTO:-0400
TZNAME:EDT
DTSTART:19700308T020000
RRULE:FREQ=YEARLY;BYMONTH=3;BYDAY=2SU
END:DAYLIGHT
BEGIN:STANDARD
TZOFFSETFROM:-0400
TZOFFSETTO:-0500
TZNAME:EST
DTSTART:19701101T020000
RRULE:FREQ=YEARLY;BYMONTH=11;BYDAY=1SU
END:STANDARD
END:VTIMEZONE
BEGIN:VEVENT
ORGANIZER:MAILTO:no-reply@q4inc.com
DTSTART;TZID="America/New_York":20220713T110000
DTEND;TZID="America/New_York":20220713T120000
LOCATION:
UID:8ab2a883-5404-4857-9eea-4019814abb23
DTSTAMP:20260421T141218
SUMMARY:Talos Energy Executive Vice President – Low Carbon Strategy and Chief Sustainability Officer Robin Fielder To Participate In One-On-One Fireside Chat with Jeff Robertson Of Water Tower Research
DESCRIPTION: View More Information: http://www.talosenergy.com/investor-relations/presentation-webcast/event-details/2022/Talos-Energy-Executive-Vice-President--Low-Carbon-Strategy-and-Chief-Sustainability-Officer-Robin-Fielder-To-Participate-In-One-On-One-Fireside-Chat-with-Jeff-Robertson-Of-Water-Tower-Research/default.aspx
URL;VALUE=URI:http://www.talosenergy.com/investor-relations/presentation-webcast/event-details/2022/Talos-Energy-Executive-Vice-President--Low-Carbon-Strategy-and-Chief-Sustainability-Officer-Robin-Fielder-To-Participate-In-One-On-One-Fireside-Chat-with-Jeff-Robertson-Of-Water-Tower-Research/default.aspx
PRIORITY:5
CLASS:PUBLIC
END:VEVENT
END:VCALENDAR
