BEGIN:VCALENDAR
VERSION:2.0
PRODID: -//Q4 Inc.//EN
METHOD:PUBLISH
BEGIN:VTIMEZONE
TZID:America/New_York
X-LIC-LOCATION:America/New_York
BEGIN:DAYLIGHT
TZOFFSETFROM:-0500
TZOFFSETTO:-0400
TZNAME:EDT
DTSTART:19700308T020000
RRULE:FREQ=YEARLY;BYMONTH=3;BYDAY=2SU
END:DAYLIGHT
BEGIN:STANDARD
TZOFFSETFROM:-0400
TZOFFSETTO:-0500
TZNAME:EST
DTSTART:19701101T020000
RRULE:FREQ=YEARLY;BYMONTH=11;BYDAY=1SU
END:STANDARD
END:VTIMEZONE
BEGIN:VEVENT
ORGANIZER:MAILTO:no-reply@q4inc.com
DTSTART;TZID="America/New_York":20181127T141500
DTEND;TZID="America/New_York":20181127T151500
LOCATION:Houston, TX 
UID:b4dd11b3-c7b3-46da-93fa-980abd9f6e4a
DTSTAMP:20260421T141332
SUMMARY:President & CEO Timothy S. Duncan will present at the Jefferies Energy Conference in Houston, TX at 1:15pm CT on Tuesday, November 27, 2018
DESCRIPTION: View More Information: http://www.talosenergy.com/investor-relations/presentation-webcast/event-details/2018/President--CEO-Timothy-S-Duncan-will-present-at-the-Jefferies-Energy-Conference-in-Houston-TX-at-115pm-CT-on-Tuesday-November-27-2018/default.aspx
URL;VALUE=URI:http://www.talosenergy.com/investor-relations/presentation-webcast/event-details/2018/President--CEO-Timothy-S-Duncan-will-present-at-the-Jefferies-Energy-Conference-in-Houston-TX-at-115pm-CT-on-Tuesday-November-27-2018/default.aspx
PRIORITY:5
CLASS:PUBLIC
END:VEVENT
END:VCALENDAR
