BEGIN:VCALENDAR
VERSION:2.0
PRODID: -//Q4 Inc.//EN
METHOD:PUBLISH
BEGIN:VTIMEZONE
TZID:America/New_York
X-LIC-LOCATION:America/New_York
BEGIN:DAYLIGHT
TZOFFSETFROM:-0500
TZOFFSETTO:-0400
TZNAME:EDT
DTSTART:19700308T020000
RRULE:FREQ=YEARLY;BYMONTH=3;BYDAY=2SU
END:DAYLIGHT
BEGIN:STANDARD
TZOFFSETFROM:-0400
TZOFFSETTO:-0500
TZNAME:EST
DTSTART:19701101T020000
RRULE:FREQ=YEARLY;BYMONTH=11;BYDAY=1SU
END:STANDARD
END:VTIMEZONE
BEGIN:VEVENT
ORGANIZER:MAILTO:no-reply@q4inc.com
DTSTART;TZID="America/New_York":20190506T000000
DTEND;TZID="America/New_York":20190506T000000
LOCATION:
UID:f527c106-b2f0-4877-a236-303a02bf2312
DTSTAMP:20260421T141228
SUMMARY:The 2019 Annual Meeting of Stockholders of Talos Energy Inc. will be held at Three Allen Center, 333 Clay Street, Suite 3300, Houston, Texas 77002, on May 6, 2019, at 10:30a.m., Central Time
DESCRIPTION: View More Information: http://www.talosenergy.com/investor-relations/presentation-webcast/event-details/2019/The-2019-Annual-Meeting-of-Stockholders-of-Talos-Energy-Inc-will-be-held-at-Three-Allen-Center-333-Clay-Street-Suite-3300-Houston-Texas-77002-on-May-6-2019-at-1030am-Central-Time/default.aspx
URL;VALUE=URI:http://www.talosenergy.com/investor-relations/presentation-webcast/event-details/2019/The-2019-Annual-Meeting-of-Stockholders-of-Talos-Energy-Inc-will-be-held-at-Three-Allen-Center-333-Clay-Street-Suite-3300-Houston-Texas-77002-on-May-6-2019-at-1030am-Central-Time/default.aspx
PRIORITY:5
CLASS:PUBLIC
END:VEVENT
END:VCALENDAR
