BEGIN:VCALENDAR
VERSION:2.0
PRODID: -//Q4 Inc.//EN
METHOD:PUBLISH
BEGIN:VTIMEZONE
TZID:America/New_York
X-LIC-LOCATION:America/New_York
BEGIN:DAYLIGHT
TZOFFSETFROM:-0500
TZOFFSETTO:-0400
TZNAME:EDT
DTSTART:19700308T020000
RRULE:FREQ=YEARLY;BYMONTH=3;BYDAY=2SU
END:DAYLIGHT
BEGIN:STANDARD
TZOFFSETFROM:-0400
TZOFFSETTO:-0500
TZNAME:EST
DTSTART:19701101T020000
RRULE:FREQ=YEARLY;BYMONTH=11;BYDAY=1SU
END:STANDARD
END:VTIMEZONE
BEGIN:VEVENT
ORGANIZER:MAILTO:no-reply@q4inc.com
DTSTART;TZID="America/New_York":20190813T163000
DTEND;TZID="America/New_York":20190813T173000
LOCATION:
UID:5529ee36-3a6e-4d9a-a38f-ceb4253b6649
DTSTAMP:20260421T123239
SUMMARY:President and CEO Timothy S. Duncan will present at the EnerCom Oil & Gas Conference in Denver, CO at 1:30 PM MT on Tuesday, August 13, 2019
DESCRIPTION: View More Information: http://www.talosenergy.com/investor-relations/presentation-webcast/event-details/2019/President-and-CEO-Timothy-S-Duncan-will-present-at-the-EnerCom-Oil--Gas-Conference-in-Denver-CO-at-130-PM-MT-on-Tuesday-August-13-2019/default.aspx
URL;VALUE=URI:http://www.talosenergy.com/investor-relations/presentation-webcast/event-details/2019/President-and-CEO-Timothy-S-Duncan-will-present-at-the-EnerCom-Oil--Gas-Conference-in-Denver-CO-at-130-PM-MT-on-Tuesday-August-13-2019/default.aspx
PRIORITY:5
CLASS:PUBLIC
END:VEVENT
END:VCALENDAR
