BEGIN:VCALENDAR
VERSION:2.0
PRODID: -//Q4 Inc.//EN
METHOD:PUBLISH
BEGIN:VTIMEZONE
TZID:America/New_York
X-LIC-LOCATION:America/New_York
BEGIN:DAYLIGHT
TZOFFSETFROM:-0500
TZOFFSETTO:-0400
TZNAME:EDT
DTSTART:19700308T020000
RRULE:FREQ=YEARLY;BYMONTH=3;BYDAY=2SU
END:DAYLIGHT
BEGIN:STANDARD
TZOFFSETFROM:-0400
TZOFFSETTO:-0500
TZNAME:EST
DTSTART:19701101T020000
RRULE:FREQ=YEARLY;BYMONTH=11;BYDAY=1SU
END:STANDARD
END:VTIMEZONE
BEGIN:VEVENT
ORGANIZER:MAILTO:no-reply@q4inc.com
DTSTART;TZID="America/New_York":20190905T114500
DTEND;TZID="America/New_York":20190905T124500
LOCATION:
UID:6b707545-2b50-42f4-b67d-62b30941de33
DTSTAMP:20260421T123437
SUMMARY:President and CEO Timothy S. Duncan will present at the Barclays Global CEO Energy-Power Conference in New York, NY at 11:45 AM ET on Thursday, September 5, 2019
DESCRIPTION: View More Information: http://www.talosenergy.com/investor-relations/presentation-webcast/event-details/2019/President-and-CEO-Timothy-S-Duncan-will-present-at-the-Barclays-Global-CEO-Energy-Power-Conference-in-New-York-NY-at-1145-AM-ET-on-Thursday-September-5-2019/default.aspx
URL;VALUE=URI:http://www.talosenergy.com/investor-relations/presentation-webcast/event-details/2019/President-and-CEO-Timothy-S-Duncan-will-present-at-the-Barclays-Global-CEO-Energy-Power-Conference-in-New-York-NY-at-1145-AM-ET-on-Thursday-September-5-2019/default.aspx
PRIORITY:5
CLASS:PUBLIC
END:VEVENT
END:VCALENDAR
