BEGIN:VCALENDAR
VERSION:2.0
PRODID: -//Q4 Inc.//EN
METHOD:PUBLISH
BEGIN:VTIMEZONE
TZID:America/New_York
X-LIC-LOCATION:America/New_York
BEGIN:DAYLIGHT
TZOFFSETFROM:-0500
TZOFFSETTO:-0400
TZNAME:EDT
DTSTART:19700308T020000
RRULE:FREQ=YEARLY;BYMONTH=3;BYDAY=2SU
END:DAYLIGHT
BEGIN:STANDARD
TZOFFSETFROM:-0400
TZOFFSETTO:-0500
TZNAME:EST
DTSTART:19701101T020000
RRULE:FREQ=YEARLY;BYMONTH=11;BYDAY=1SU
END:STANDARD
END:VTIMEZONE
BEGIN:VEVENT
ORGANIZER:MAILTO:no-reply@q4inc.com
DTSTART;TZID="America/New_York":20191211T080000
DTEND;TZID="America/New_York":20191211T090000
LOCATION:
UID:9e922ffd-4041-4d4e-a980-8a87620c9f87
DTSTAMP:20260421T142651
SUMMARY:Talos Energy Announces Transformative Acquisition of Gulf of Mexico Portfolio Through Multiple Transactions
DESCRIPTION: View More Information: http://www.talosenergy.com/investor-relations/presentation-webcast/event-details/2019/Talos-Energy-Announces-Transformative-Acquisition-of-Gulf-of-Mexico-Portfolio-Through-Multiple-Transactions-/default.aspx
URL;VALUE=URI:http://www.talosenergy.com/investor-relations/presentation-webcast/event-details/2019/Talos-Energy-Announces-Transformative-Acquisition-of-Gulf-of-Mexico-Portfolio-Through-Multiple-Transactions-/default.aspx
PRIORITY:5
CLASS:PUBLIC
END:VEVENT
END:VCALENDAR
