BEGIN:VCALENDAR
VERSION:2.0
PRODID: -//Q4 Inc.//EN
METHOD:PUBLISH
BEGIN:VTIMEZONE
TZID:America/New_York
X-LIC-LOCATION:America/New_York
BEGIN:DAYLIGHT
TZOFFSETFROM:-0500
TZOFFSETTO:-0400
TZNAME:EDT
DTSTART:19700308T020000
RRULE:FREQ=YEARLY;BYMONTH=3;BYDAY=2SU
END:DAYLIGHT
BEGIN:STANDARD
TZOFFSETFROM:-0400
TZOFFSETTO:-0500
TZNAME:EST
DTSTART:19701101T020000
RRULE:FREQ=YEARLY;BYMONTH=11;BYDAY=1SU
END:STANDARD
END:VTIMEZONE
BEGIN:VEVENT
ORGANIZER:MAILTO:no-reply@q4inc.com
DTSTART;TZID="America/New_York":20200120T090000
DTEND;TZID="America/New_York":20200120T100000
LOCATION:
UID:d7d3a720-8e36-4428-938f-233814fc9f44
DTSTAMP:20260421T182253
SUMMARY:Talos Energy will present at the Pareto Securities E&P Independents Conference in London, UK at 2:00 pm local time on Wednesday, January 22, 2020
DESCRIPTION: View More Information: http://www.talosenergy.com/investor-relations/presentation-webcast/event-details/2020/Talos-Energy-will-present-at-the-Pareto-Securities-EP-Independents-Conference-in-London-UK-at-200-pm-local-time-on-Wednesday-January-22-2020/default.aspx
URL;VALUE=URI:http://www.talosenergy.com/investor-relations/presentation-webcast/event-details/2020/Talos-Energy-will-present-at-the-Pareto-Securities-EP-Independents-Conference-in-London-UK-at-200-pm-local-time-on-Wednesday-January-22-2020/default.aspx
PRIORITY:5
CLASS:PUBLIC
END:VEVENT
END:VCALENDAR
