BEGIN:VCALENDAR
VERSION:2.0
PRODID: -//Q4 Inc.//EN
METHOD:PUBLISH
BEGIN:VTIMEZONE
TZID:America/New_York
X-LIC-LOCATION:America/New_York
BEGIN:DAYLIGHT
TZOFFSETFROM:-0500
TZOFFSETTO:-0400
TZNAME:EDT
DTSTART:19700308T020000
RRULE:FREQ=YEARLY;BYMONTH=3;BYDAY=2SU
END:DAYLIGHT
BEGIN:STANDARD
TZOFFSETFROM:-0400
TZOFFSETTO:-0500
TZNAME:EST
DTSTART:19701101T020000
RRULE:FREQ=YEARLY;BYMONTH=11;BYDAY=1SU
END:STANDARD
END:VTIMEZONE
BEGIN:VEVENT
ORGANIZER:MAILTO:no-reply@q4inc.com
DTSTART;TZID="America/New_York":20200225T164000
DTEND;TZID="America/New_York":20200225T174000
LOCATION:
UID:7f439751-6807-4b88-bb34-1c887a600344
DTSTAMP:20260421T142352
SUMMARY:President and CEO Timothy S. Duncan will present at the J.P. Morgan Global High Yield & Leveraged Finance Conference in Miami Beach, FL at 4:40 PM ET on Tuesday, February 25, 2020
DESCRIPTION: View More Information: http://www.talosenergy.com/investor-relations/presentation-webcast/event-details/2020/President-and-CEO-Timothy-S-Duncan-will-present-at-the-JP-Morgan-Global-High-Yield--Leveraged-Finance-Conference-in-Miami-Beach-FL-at-440-PM-ET-on-Tuesday-February-25-2020/default.aspx
URL;VALUE=URI:http://www.talosenergy.com/investor-relations/presentation-webcast/event-details/2020/President-and-CEO-Timothy-S-Duncan-will-present-at-the-JP-Morgan-Global-High-Yield--Leveraged-Finance-Conference-in-Miami-Beach-FL-at-440-PM-ET-on-Tuesday-February-25-2020/default.aspx
PRIORITY:5
CLASS:PUBLIC
END:VEVENT
END:VCALENDAR
