BEGIN:VCALENDAR
VERSION:2.0
PRODID: -//Q4 Inc.//EN
METHOD:PUBLISH
BEGIN:VTIMEZONE
TZID:America/New_York
X-LIC-LOCATION:America/New_York
BEGIN:DAYLIGHT
TZOFFSETFROM:-0500
TZOFFSETTO:-0400
TZNAME:EDT
DTSTART:19700308T020000
RRULE:FREQ=YEARLY;BYMONTH=3;BYDAY=2SU
END:DAYLIGHT
BEGIN:STANDARD
TZOFFSETFROM:-0400
TZOFFSETTO:-0500
TZNAME:EST
DTSTART:19701101T020000
RRULE:FREQ=YEARLY;BYMONTH=11;BYDAY=1SU
END:STANDARD
END:VTIMEZONE
BEGIN:VEVENT
ORGANIZER:MAILTO:no-reply@q4inc.com
DTSTART;TZID="America/New_York":20200916T000000
DTEND;TZID="America/New_York":20200917T000000
LOCATION:
UID:6ce68f40-a070-4816-b1ae-c7044d904573
DTSTAMP:20260421T123344
SUMMARY:President and CEO Timothy S. Duncan will present at the Pareto Securities Virtual Energy Conference held September 16-17, 2020
DESCRIPTION: View More Information: http://www.talosenergy.com/investor-relations/presentation-webcast/event-details/2020/President-and-CEO-Timothy-S-Duncan-will-present-at-the-Pareto-Securities-Virtual-Energy-Conference-held-September-16-17-2020/default.aspx
URL;VALUE=URI:http://www.talosenergy.com/investor-relations/presentation-webcast/event-details/2020/President-and-CEO-Timothy-S-Duncan-will-present-at-the-Pareto-Securities-Virtual-Energy-Conference-held-September-16-17-2020/default.aspx
PRIORITY:5
CLASS:PUBLIC
END:VEVENT
END:VCALENDAR
