BEGIN:VCALENDAR
VERSION:2.0
PRODID: -//Q4 Inc.//EN
METHOD:PUBLISH
BEGIN:VTIMEZONE
TZID:America/New_York
X-LIC-LOCATION:America/New_York
BEGIN:DAYLIGHT
TZOFFSETFROM:-0500
TZOFFSETTO:-0400
TZNAME:EDT
DTSTART:19700308T020000
RRULE:FREQ=YEARLY;BYMONTH=3;BYDAY=2SU
END:DAYLIGHT
BEGIN:STANDARD
TZOFFSETFROM:-0400
TZOFFSETTO:-0500
TZNAME:EST
DTSTART:19701101T020000
RRULE:FREQ=YEARLY;BYMONTH=11;BYDAY=1SU
END:STANDARD
END:VTIMEZONE
BEGIN:VEVENT
ORGANIZER:MAILTO:no-reply@q4inc.com
DTSTART;TZID="America/New_York":20210908T153500
DTEND;TZID="America/New_York":20210908T163500
LOCATION:
UID:f4459cc2-be5e-461e-8a91-e71dbfefe337
DTSTAMP:20260421T141552
SUMMARY:Talos Energy Will Present at the 2021 Barclays CEO Energy-Power Conference
DESCRIPTION: View More Information: http://www.talosenergy.com/investor-relations/presentation-webcast/event-details/2021/Talos-Energy-Will-Present-at-the-2021-Barclays-CEO-Energy-Power-Conference/default.aspx
URL;VALUE=URI:http://www.talosenergy.com/investor-relations/presentation-webcast/event-details/2021/Talos-Energy-Will-Present-at-the-2021-Barclays-CEO-Energy-Power-Conference/default.aspx
PRIORITY:5
CLASS:PUBLIC
END:VEVENT
END:VCALENDAR
