BEGIN:VCALENDAR
VERSION:2.0
PRODID: -//Q4 Inc.//EN
METHOD:PUBLISH
BEGIN:VTIMEZONE
TZID:America/New_York
X-LIC-LOCATION:America/New_York
BEGIN:DAYLIGHT
TZOFFSETFROM:-0500
TZOFFSETTO:-0400
TZNAME:EDT
DTSTART:19700308T020000
RRULE:FREQ=YEARLY;BYMONTH=3;BYDAY=2SU
END:DAYLIGHT
BEGIN:STANDARD
TZOFFSETFROM:-0400
TZOFFSETTO:-0500
TZNAME:EST
DTSTART:19701101T020000
RRULE:FREQ=YEARLY;BYMONTH=11;BYDAY=1SU
END:STANDARD
END:VTIMEZONE
BEGIN:VEVENT
ORGANIZER:MAILTO:no-reply@q4inc.com
DTSTART;TZID="America/New_York":20220228T000000
DTEND;TZID="America/New_York":20220301T000000
LOCATION:
UID:53315d5a-249c-4d24-a7a1-4734fd9b9c46
DTSTAMP:20260421T123518
SUMMARY:Talos Energy to attend the J.P. Morgan Chase Global High Yield  Leveraged Finance Conference
DESCRIPTION: View More Information: http://www.talosenergy.com/investor-relations/presentation-webcast/event-details/2022/Talos-Energy-to-attend-the-JP-Morgan-Chase-Global-High-Yield-amp-Leveraged-Finance-Conference/default.aspx
URL;VALUE=URI:http://www.talosenergy.com/investor-relations/presentation-webcast/event-details/2022/Talos-Energy-to-attend-the-JP-Morgan-Chase-Global-High-Yield-amp-Leveraged-Finance-Conference/default.aspx
PRIORITY:5
CLASS:PUBLIC
END:VEVENT
END:VCALENDAR
