BEGIN:VCALENDAR
VERSION:2.0
PRODID: -//Q4 Inc.//EN
METHOD:PUBLISH
BEGIN:VTIMEZONE
TZID:America/New_York
X-LIC-LOCATION:America/New_York
BEGIN:DAYLIGHT
TZOFFSETFROM:-0500
TZOFFSETTO:-0400
TZNAME:EDT
DTSTART:19700308T020000
RRULE:FREQ=YEARLY;BYMONTH=3;BYDAY=2SU
END:DAYLIGHT
BEGIN:STANDARD
TZOFFSETFROM:-0400
TZOFFSETTO:-0500
TZNAME:EST
DTSTART:19701101T020000
RRULE:FREQ=YEARLY;BYMONTH=11;BYDAY=1SU
END:STANDARD
END:VTIMEZONE
BEGIN:VEVENT
ORGANIZER:MAILTO:no-reply@q4inc.com
DTSTART;TZID="America/New_York":20240507T100000
DTEND;TZID="America/New_York":20240507T110000
LOCATION:
UID:285c03d4-a4d1-4127-956d-ae7672525ef4
DTSTAMP:20260421T155241
SUMMARY:Talos Energy First Quarter 2024 Earnings Call
DESCRIPTION: View More Information: http://www.talosenergy.com/investor-relations/presentation-webcast/event-details/2024/Talos-Energy-First-Quarter-2024-Earnings-Call-2024-WorYsLLJs2/default.aspx
URL;VALUE=URI:http://www.talosenergy.com/investor-relations/presentation-webcast/event-details/2024/Talos-Energy-First-Quarter-2024-Earnings-Call-2024-WorYsLLJs2/default.aspx
PRIORITY:5
CLASS:PUBLIC
END:VEVENT
END:VCALENDAR
