BEGIN:VCALENDAR
VERSION:2.0
PRODID: -//Q4 Inc.//EN
METHOD:PUBLISH
BEGIN:VTIMEZONE
TZID:America/New_York
X-LIC-LOCATION:America/New_York
BEGIN:DAYLIGHT
TZOFFSETFROM:-0500
TZOFFSETTO:-0400
TZNAME:EDT
DTSTART:19700308T020000
RRULE:FREQ=YEARLY;BYMONTH=3;BYDAY=2SU
END:DAYLIGHT
BEGIN:STANDARD
TZOFFSETFROM:-0400
TZOFFSETTO:-0500
TZNAME:EST
DTSTART:19701101T020000
RRULE:FREQ=YEARLY;BYMONTH=11;BYDAY=1SU
END:STANDARD
END:VTIMEZONE
BEGIN:VEVENT
ORGANIZER:MAILTO:no-reply@q4inc.com
DTSTART;TZID="America/New_York":20240618T094500
DTEND;TZID="America/New_York":20240618T104500
LOCATION:New York, NY
UID:62bd0904-e27d-4ea9-ae49-208f37f660bb
DTSTAMP:20260421T123354
SUMMARY:Talos Energy to attend the J.P. Morgan Energy, Power and Renewables Conference
DESCRIPTION: View More Information: http://www.talosenergy.com/investor-relations/presentation-webcast/event-details/2024/Talos-Energy-to-attend-the-JP-Morgan-Energy-Power-and-Renewables-Conference-2024-l8sujLUx3Z/default.aspx
URL;VALUE=URI:http://www.talosenergy.com/investor-relations/presentation-webcast/event-details/2024/Talos-Energy-to-attend-the-JP-Morgan-Energy-Power-and-Renewables-Conference-2024-l8sujLUx3Z/default.aspx
PRIORITY:5
CLASS:PUBLIC
END:VEVENT
END:VCALENDAR
